BEGIN:VCALENDAR
VERSION:2.0
PRODID:-//hacksw/handcal//NONSGML v1.0//EN
BEGIN:VEVENT
SUMMARY:ANNULATION du Stage jeunes vacances de Paques
UID:93b2665b-8260-4bdf-889d-769e565ba6a8
DTSTART:20260428T070000Z
DTEND:20260430T150000Z
LOCATION:Localisation   
CATEGORIES:Sportif
STATUS:
DESCRIPTION:<p>Bonjour a tous,</p>
 
 <p>Suite a un imprevu le stage
 prevu du 28 au 30 avril est annule.</p>
 
 <p>Merci de votre prise en
 compte.</p>
 
 <p>Sportivement,</p>
 
 <p>Philippe</p>
URL;VALUE=URI:https://www.badmintonclubvicinois.org/evenements/2026/04/28/annulation-du-stage-jeunes-vacances-de-paques-2436521
END:VEVENT
END:VCALENDAR
